BEGIN:VCALENDAR
VERSION:2.0
PRODID:-//higherSelf Spirit Consulting - ECPv6.15.19//NONSGML v1.0//EN
CALSCALE:GREGORIAN
METHOD:PUBLISH
X-WR-CALNAME:higherSelf Spirit Consulting
X-ORIGINAL-URL:https://lovehigherself.com
X-WR-CALDESC:Events for higherSelf Spirit Consulting
REFRESH-INTERVAL;VALUE=DURATION:PT1H
X-Robots-Tag:noindex
X-PUBLISHED-TTL:PT1H
BEGIN:VTIMEZONE
TZID:America/Toronto
BEGIN:DAYLIGHT
TZOFFSETFROM:-0500
TZOFFSETTO:-0400
TZNAME:EDT
DTSTART:20240310T070000
END:DAYLIGHT
BEGIN:STANDARD
TZOFFSETFROM:-0400
TZOFFSETTO:-0500
TZNAME:EST
DTSTART:20241103T060000
END:STANDARD
BEGIN:DAYLIGHT
TZOFFSETFROM:-0500
TZOFFSETTO:-0400
TZNAME:EDT
DTSTART:20250309T070000
END:DAYLIGHT
BEGIN:STANDARD
TZOFFSETFROM:-0400
TZOFFSETTO:-0500
TZNAME:EST
DTSTART:20251102T060000
END:STANDARD
BEGIN:DAYLIGHT
TZOFFSETFROM:-0500
TZOFFSETTO:-0400
TZNAME:EDT
DTSTART:20260308T070000
END:DAYLIGHT
BEGIN:STANDARD
TZOFFSETFROM:-0400
TZOFFSETTO:-0500
TZNAME:EST
DTSTART:20261101T060000
END:STANDARD
END:VTIMEZONE
BEGIN:VEVENT
DTSTART;TZID=America/Toronto:20250928T120000
DTEND;TZID=America/Toronto:20250928T180000
DTSTAMP:20260419T193522
CREATED:20240123T011723Z
LAST-MODIFIED:20250909T163840Z
UID:2196-1759060800-1759082400@lovehigherself.com
SUMMARY:Angel Tuning Class 1
DESCRIPTION:This class will demonstrate how to do in-person tunings using only the Angel Forks. This class will focus on hospital visits where patients are in a coma or unconscious\, palliative care facilities and children. \nIt is an on-line class however there may be students that might like to come in person. We can have both types to enhance the experience. \nThis is an intense 5+ hour class on the significance and power of Angel Tuning Forks. As you begin your practice and engage with more angelic energies you will begin to change your “energetic reputation”. \nEnergy has intelligence and it knows who you are based on what dimensions you have worked in and where you are willing to venture. It is a teaching of a higher order attracted by the frequencies. We will teach you how to tune someone in a different dimension using your Angel forks only. \nThe power of the forks will in time speak to you and the chakra or auric fields you are working on. The chakra needs to be heard and felt with an interaction that conveys a sense of respect and intelligence. \nTo receive your certificate we will need you to tune at least 5 clients using this method to show the results you observed. \nTo register for this class click the link below marked: Website\nRate is in USD funds. \nThis class is approved by the Natural Therapies Board giving 10 CEU training points on your required ascension of training during the year. When you have gone through the entire training let us know when you have done your first 5 Angel Tunings to get your certificate. \nEnjoy the class!
URL:https://lovehigherself.com/event/angel-tuning-class-1/
LOCATION:on ZOOM
ATTACH;FMTTYPE=image/png:https://lovehigherself.com/wp-content/uploads/2024/01/Angel-Tuning-class-1280.png
END:VEVENT
END:VCALENDAR